BEGIN:VCALENDAR
VERSION:2.0
PRODID:-//4:13 Strong - ECPv6.15.1.1//NONSGML v1.0//EN
CALSCALE:GREGORIAN
METHOD:PUBLISH
X-WR-CALNAME:4:13 Strong
X-ORIGINAL-URL:https://413strong.org
X-WR-CALDESC:Events for 4:13 Strong
REFRESH-INTERVAL;VALUE=DURATION:PT1H
X-Robots-Tag:noindex
X-PUBLISHED-TTL:PT1H
BEGIN:VTIMEZONE
TZID:America/Chicago
BEGIN:DAYLIGHT
TZOFFSETFROM:-0600
TZOFFSETTO:-0500
TZNAME:CDT
DTSTART:20260308T080000
END:DAYLIGHT
BEGIN:STANDARD
TZOFFSETFROM:-0500
TZOFFSETTO:-0600
TZNAME:CST
DTSTART:20261101T070000
END:STANDARD
END:VTIMEZONE
BEGIN:VEVENT
DTSTART;TZID=America/Chicago:20260716T180000
DTEND;TZID=America/Chicago:20260716T200000
DTSTAMP:20260420T144834
CREATED:20251217T194711Z
LAST-MODIFIED:20260420T150348Z
UID:10002402-1784224800-1784232000@413strong.org
SUMMARY:Fellowship Dinner
DESCRIPTION:Provide dinner for the current 4:13 Strong class or Working Men on Thursday evenings. You can prepare a homemade meal in your kitchen or order takeout. It’s up to you. Our guys always appreciate a tasty\, nutritious meal that is prepared by someone else! Plan to stick around and eat with them because they love the fellowship. \nSIGN UP
URL:https://413strong.org/event/fellowship-dinner-10-2-2/2026-07-16/
LOCATION:4:13 Strong\, 1282 Foster Avenue\, Nashville\, TN\, 37210\, United States
CATEGORIES:Community
ATTACH;FMTTYPE=image/jpeg:https://413strong.org/wp-content/uploads/2020/07/New-413-Strong-Class-Eating.jpg
ORGANIZER;CN="Steve":MAILTO:steve@413strong.org
END:VEVENT
BEGIN:VEVENT
DTSTART;TZID=America/Chicago:20260720T183000
DTEND;TZID=America/Chicago:20260720T200000
DTSTAMP:20260420T144834
CREATED:20251112T211533Z
LAST-MODIFIED:20260420T144601Z
UID:10003712-1784572200-1784577600@413strong.org
SUMMARY:Monday Night Mentoring
DESCRIPTION:Monday nights are a time when we invite men from the community to come and spend time with the 4:13 Strong men. We meet as a large group for a brief message before breaking into small groups where relationships can really be formed. Each small group has 2 – 3 Mentors and 3 – 4 men from 4:13 Strong. This is the most hands-on opportunity that we offer for those men that are really looking to invest in the lives of the 4:13 Strong guys.
URL:https://413strong.org/event/monday-night-mentoring-3-2/2026-07-20/
LOCATION:4:13 Strong\, 1282 Foster Avenue\, Nashville\, TN\, 37210\, United States
CATEGORIES:Community,Guys
ATTACH;FMTTYPE=image/jpeg:https://413strong.org/wp-content/uploads/2025/11/Monday-Night-Mentoring.jpg
ORGANIZER;CN="Steve":MAILTO:steve@413strong.org
END:VEVENT
BEGIN:VEVENT
DTSTART;TZID=America/Chicago:20260721T053000
DTEND;TZID=America/Chicago:20260721T061500
DTSTAMP:20260420T144834
CREATED:20260420T145246Z
LAST-MODIFIED:20260420T145853Z
UID:10004304-1784611800-1784614500@413strong.org
SUMMARY:F3 Tuesday Run
DESCRIPTION:Each Tuesday morning during the 40-Day Challenge\, we meet at 5:30am for a three-mile run. Our goal is to be able to complete the three miles in under 30 minutes by the end of the 40 Day Challenge. We do run/walk intervals with the duration of the run interval gradually increasing throughout the 40 Days.
URL:https://413strong.org/event/f3-tuesday-run-5-2-3-2-2/2026-07-21/
LOCATION:4:13 Strong Campus\, 1276 Foster Avenue\, Nashville\, TN\, 37210\, United States
CATEGORIES:Community,Workouts
ATTACH;FMTTYPE=image/jpeg:https://413strong.org/wp-content/uploads/2025/05/Run.jpg
ORGANIZER;CN="Steve":MAILTO:steve@413strong.org
END:VEVENT
BEGIN:VEVENT
DTSTART;TZID=America/Chicago:20260721T153000
DTEND;TZID=America/Chicago:20260721T170000
DTSTAMP:20260420T144834
CREATED:20240315T204126Z
LAST-MODIFIED:20260420T144745Z
UID:10001870-1784647800-1784653200@413strong.org
SUMMARY:Happy Hour
DESCRIPTION:Join us as we unwind from a day of hard work at our weekly Happy Hour! We’ll have snacks\, games\, music\, slushies\, and more. No need to sign up\, just show up. Stop in for a few minutes or stay a while.
URL:https://413strong.org/event/happy-hour-2/2026-07-21/
LOCATION:4:13 Strong Campus\, 1276 Foster Avenue\, Nashville\, TN\, 37210\, United States
CATEGORIES:Community
ATTACH;FMTTYPE=image/jpeg:https://413strong.org/wp-content/uploads/2024/03/Happy-Hour.jpg
END:VEVENT
BEGIN:VEVENT
DTSTART;TZID=America/Chicago:20260722T160000
DTEND;TZID=America/Chicago:20260722T170000
DTSTAMP:20260420T144834
CREATED:20240319T200406Z
LAST-MODIFIED:20260223T172018Z
UID:10002133-1784736000-1784739600@413strong.org
SUMMARY:Study Hall
DESCRIPTION:On Wednesdays from 4:00-5:00\, 4:13 Strong volunteers can help with resume writing\, interview skills\, construction math\, and drivers license test practice.
URL:https://413strong.org/event/study-hall/2026-07-22/
LOCATION:4:13 Strong Campus\, 1276 Foster Avenue\, Nashville\, TN\, 37210\, United States
CATEGORIES:Community
ATTACH;FMTTYPE=image/jpeg:https://413strong.org/wp-content/uploads/2022/11/Screen-Shot-2022-02-08-at-12.25.10-PM-Copy.jpg
END:VEVENT
BEGIN:VEVENT
DTSTART;TZID=America/Chicago:20260723T053000
DTEND;TZID=America/Chicago:20260723T061500
DTSTAMP:20260420T144834
CREATED:20251112T211015Z
LAST-MODIFIED:20260223T165022Z
UID:10003453-1784784600-1784787300@413strong.org
SUMMARY:F3 Workout
DESCRIPTION:Come out and join us for an early morning workout. F3 converges on the 4:13 Strong campus (the “Stronghold”) each Thursday morning from 5:30am-6:15am\, rain or shine\, to lead the 4:13 Strong guys in a fun but challenging workout. This is a great way to encourage the 4:13 Strong men\, improve your fitness level and build some new male friendships. Stick around for coffee and fellowship following the workout. \nF3 Workouts were created “to plant\, grow\, and serve small workout groups for the invigoration of male community leadership.” \nPartner with us as we support our men and community in becoming better leaders in Nashville.
URL:https://413strong.org/event/f3-workout-32-2-3-2/2026-07-23/
LOCATION:4:13 Strong Campus\, 1276 Foster Avenue\, Nashville\, TN\, 37210\, United States
CATEGORIES:Community,Workouts
ATTACH;FMTTYPE=image/jpeg:https://413strong.org/wp-content/uploads/2024/02/F3-Workout-scaled.jpg
ORGANIZER;CN="Steve":MAILTO:steve@413strong.org
END:VEVENT
BEGIN:VEVENT
DTSTART;TZID=America/Chicago:20260723T180000
DTEND;TZID=America/Chicago:20260723T200000
DTSTAMP:20260420T144834
CREATED:20251217T194711Z
LAST-MODIFIED:20260420T150348Z
UID:10002403-1784829600-1784836800@413strong.org
SUMMARY:Fellowship Dinner
DESCRIPTION:Provide dinner for the current 4:13 Strong class or Working Men on Thursday evenings. You can prepare a homemade meal in your kitchen or order takeout. It’s up to you. Our guys always appreciate a tasty\, nutritious meal that is prepared by someone else! Plan to stick around and eat with them because they love the fellowship. \nSIGN UP
URL:https://413strong.org/event/fellowship-dinner-10-2-2/2026-07-23/
LOCATION:4:13 Strong\, 1282 Foster Avenue\, Nashville\, TN\, 37210\, United States
CATEGORIES:Community
ATTACH;FMTTYPE=image/jpeg:https://413strong.org/wp-content/uploads/2020/07/New-413-Strong-Class-Eating.jpg
ORGANIZER;CN="Steve":MAILTO:steve@413strong.org
END:VEVENT
BEGIN:VEVENT
DTSTART;TZID=America/Chicago:20260727T183000
DTEND;TZID=America/Chicago:20260727T200000
DTSTAMP:20260420T144834
CREATED:20251112T211533Z
LAST-MODIFIED:20260420T144601Z
UID:10003713-1785177000-1785182400@413strong.org
SUMMARY:Monday Night Mentoring
DESCRIPTION:Monday nights are a time when we invite men from the community to come and spend time with the 4:13 Strong men. We meet as a large group for a brief message before breaking into small groups where relationships can really be formed. Each small group has 2 – 3 Mentors and 3 – 4 men from 4:13 Strong. This is the most hands-on opportunity that we offer for those men that are really looking to invest in the lives of the 4:13 Strong guys.
URL:https://413strong.org/event/monday-night-mentoring-3-2/2026-07-27/
LOCATION:4:13 Strong\, 1282 Foster Avenue\, Nashville\, TN\, 37210\, United States
CATEGORIES:Community,Guys
ATTACH;FMTTYPE=image/jpeg:https://413strong.org/wp-content/uploads/2025/11/Monday-Night-Mentoring.jpg
ORGANIZER;CN="Steve":MAILTO:steve@413strong.org
END:VEVENT
BEGIN:VEVENT
DTSTART;TZID=America/Chicago:20260728T053000
DTEND;TZID=America/Chicago:20260728T061500
DTSTAMP:20260420T144834
CREATED:20260420T145246Z
LAST-MODIFIED:20260420T145853Z
UID:10004305-1785216600-1785219300@413strong.org
SUMMARY:F3 Tuesday Run
DESCRIPTION:Each Tuesday morning during the 40-Day Challenge\, we meet at 5:30am for a three-mile run. Our goal is to be able to complete the three miles in under 30 minutes by the end of the 40 Day Challenge. We do run/walk intervals with the duration of the run interval gradually increasing throughout the 40 Days.
URL:https://413strong.org/event/f3-tuesday-run-5-2-3-2-2/2026-07-28/
LOCATION:4:13 Strong Campus\, 1276 Foster Avenue\, Nashville\, TN\, 37210\, United States
CATEGORIES:Community,Workouts
ATTACH;FMTTYPE=image/jpeg:https://413strong.org/wp-content/uploads/2025/05/Run.jpg
ORGANIZER;CN="Steve":MAILTO:steve@413strong.org
END:VEVENT
BEGIN:VEVENT
DTSTART;TZID=America/Chicago:20260728T153000
DTEND;TZID=America/Chicago:20260728T170000
DTSTAMP:20260420T144834
CREATED:20240315T204126Z
LAST-MODIFIED:20260420T144745Z
UID:10001871-1785252600-1785258000@413strong.org
SUMMARY:Happy Hour
DESCRIPTION:Join us as we unwind from a day of hard work at our weekly Happy Hour! We’ll have snacks\, games\, music\, slushies\, and more. No need to sign up\, just show up. Stop in for a few minutes or stay a while.
URL:https://413strong.org/event/happy-hour-2/2026-07-28/
LOCATION:4:13 Strong Campus\, 1276 Foster Avenue\, Nashville\, TN\, 37210\, United States
CATEGORIES:Community
ATTACH;FMTTYPE=image/jpeg:https://413strong.org/wp-content/uploads/2024/03/Happy-Hour.jpg
END:VEVENT
BEGIN:VEVENT
DTSTART;TZID=America/Chicago:20260729T160000
DTEND;TZID=America/Chicago:20260729T170000
DTSTAMP:20260420T144834
CREATED:20240319T200406Z
LAST-MODIFIED:20260223T172018Z
UID:10002134-1785340800-1785344400@413strong.org
SUMMARY:Study Hall
DESCRIPTION:On Wednesdays from 4:00-5:00\, 4:13 Strong volunteers can help with resume writing\, interview skills\, construction math\, and drivers license test practice.
URL:https://413strong.org/event/study-hall/2026-07-29/
LOCATION:4:13 Strong Campus\, 1276 Foster Avenue\, Nashville\, TN\, 37210\, United States
CATEGORIES:Community
ATTACH;FMTTYPE=image/jpeg:https://413strong.org/wp-content/uploads/2022/11/Screen-Shot-2022-02-08-at-12.25.10-PM-Copy.jpg
END:VEVENT
BEGIN:VEVENT
DTSTART;TZID=America/Chicago:20260730T053000
DTEND;TZID=America/Chicago:20260730T061500
DTSTAMP:20260420T144834
CREATED:20251112T211015Z
LAST-MODIFIED:20260223T165022Z
UID:10003454-1785389400-1785392100@413strong.org
SUMMARY:F3 Workout
DESCRIPTION:Come out and join us for an early morning workout. F3 converges on the 4:13 Strong campus (the “Stronghold”) each Thursday morning from 5:30am-6:15am\, rain or shine\, to lead the 4:13 Strong guys in a fun but challenging workout. This is a great way to encourage the 4:13 Strong men\, improve your fitness level and build some new male friendships. Stick around for coffee and fellowship following the workout. \nF3 Workouts were created “to plant\, grow\, and serve small workout groups for the invigoration of male community leadership.” \nPartner with us as we support our men and community in becoming better leaders in Nashville.
URL:https://413strong.org/event/f3-workout-32-2-3-2/2026-07-30/
LOCATION:4:13 Strong Campus\, 1276 Foster Avenue\, Nashville\, TN\, 37210\, United States
CATEGORIES:Community,Workouts
ATTACH;FMTTYPE=image/jpeg:https://413strong.org/wp-content/uploads/2024/02/F3-Workout-scaled.jpg
ORGANIZER;CN="Steve":MAILTO:steve@413strong.org
END:VEVENT
BEGIN:VEVENT
DTSTART;TZID=America/Chicago:20260730T180000
DTEND;TZID=America/Chicago:20260730T200000
DTSTAMP:20260420T144834
CREATED:20251217T194711Z
LAST-MODIFIED:20260420T150348Z
UID:10002404-1785434400-1785441600@413strong.org
SUMMARY:Fellowship Dinner
DESCRIPTION:Provide dinner for the current 4:13 Strong class or Working Men on Thursday evenings. You can prepare a homemade meal in your kitchen or order takeout. It’s up to you. Our guys always appreciate a tasty\, nutritious meal that is prepared by someone else! Plan to stick around and eat with them because they love the fellowship. \nSIGN UP
URL:https://413strong.org/event/fellowship-dinner-10-2-2/2026-07-30/
LOCATION:4:13 Strong\, 1282 Foster Avenue\, Nashville\, TN\, 37210\, United States
CATEGORIES:Community
ATTACH;FMTTYPE=image/jpeg:https://413strong.org/wp-content/uploads/2020/07/New-413-Strong-Class-Eating.jpg
ORGANIZER;CN="Steve":MAILTO:steve@413strong.org
END:VEVENT
BEGIN:VEVENT
DTSTART;TZID=America/Chicago:20260803T183000
DTEND;TZID=America/Chicago:20260803T200000
DTSTAMP:20260420T144834
CREATED:20251112T211533Z
LAST-MODIFIED:20260420T144601Z
UID:10003714-1785781800-1785787200@413strong.org
SUMMARY:Monday Night Mentoring
DESCRIPTION:Monday nights are a time when we invite men from the community to come and spend time with the 4:13 Strong men. We meet as a large group for a brief message before breaking into small groups where relationships can really be formed. Each small group has 2 – 3 Mentors and 3 – 4 men from 4:13 Strong. This is the most hands-on opportunity that we offer for those men that are really looking to invest in the lives of the 4:13 Strong guys.
URL:https://413strong.org/event/monday-night-mentoring-3-2/2026-08-03/
LOCATION:4:13 Strong\, 1282 Foster Avenue\, Nashville\, TN\, 37210\, United States
CATEGORIES:Community,Guys
ATTACH;FMTTYPE=image/jpeg:https://413strong.org/wp-content/uploads/2025/11/Monday-Night-Mentoring.jpg
ORGANIZER;CN="Steve":MAILTO:steve@413strong.org
END:VEVENT
BEGIN:VEVENT
DTSTART;TZID=America/Chicago:20260804T053000
DTEND;TZID=America/Chicago:20260804T061500
DTSTAMP:20260420T144834
CREATED:20260420T145246Z
LAST-MODIFIED:20260420T145853Z
UID:10004306-1785821400-1785824100@413strong.org
SUMMARY:F3 Tuesday Run
DESCRIPTION:Each Tuesday morning during the 40-Day Challenge\, we meet at 5:30am for a three-mile run. Our goal is to be able to complete the three miles in under 30 minutes by the end of the 40 Day Challenge. We do run/walk intervals with the duration of the run interval gradually increasing throughout the 40 Days.
URL:https://413strong.org/event/f3-tuesday-run-5-2-3-2-2/2026-08-04/
LOCATION:4:13 Strong Campus\, 1276 Foster Avenue\, Nashville\, TN\, 37210\, United States
CATEGORIES:Community,Workouts
ATTACH;FMTTYPE=image/jpeg:https://413strong.org/wp-content/uploads/2025/05/Run.jpg
ORGANIZER;CN="Steve":MAILTO:steve@413strong.org
END:VEVENT
BEGIN:VEVENT
DTSTART;TZID=America/Chicago:20260804T153000
DTEND;TZID=America/Chicago:20260804T170000
DTSTAMP:20260420T144834
CREATED:20240315T204126Z
LAST-MODIFIED:20260420T144745Z
UID:10001872-1785857400-1785862800@413strong.org
SUMMARY:Happy Hour
DESCRIPTION:Join us as we unwind from a day of hard work at our weekly Happy Hour! We’ll have snacks\, games\, music\, slushies\, and more. No need to sign up\, just show up. Stop in for a few minutes or stay a while.
URL:https://413strong.org/event/happy-hour-2/2026-08-04/
LOCATION:4:13 Strong Campus\, 1276 Foster Avenue\, Nashville\, TN\, 37210\, United States
CATEGORIES:Community
ATTACH;FMTTYPE=image/jpeg:https://413strong.org/wp-content/uploads/2024/03/Happy-Hour.jpg
END:VEVENT
BEGIN:VEVENT
DTSTART;TZID=America/Chicago:20260805T160000
DTEND;TZID=America/Chicago:20260805T170000
DTSTAMP:20260420T144834
CREATED:20240319T200406Z
LAST-MODIFIED:20260223T172018Z
UID:10002135-1785945600-1785949200@413strong.org
SUMMARY:Study Hall
DESCRIPTION:On Wednesdays from 4:00-5:00\, 4:13 Strong volunteers can help with resume writing\, interview skills\, construction math\, and drivers license test practice.
URL:https://413strong.org/event/study-hall/2026-08-05/
LOCATION:4:13 Strong Campus\, 1276 Foster Avenue\, Nashville\, TN\, 37210\, United States
CATEGORIES:Community
ATTACH;FMTTYPE=image/jpeg:https://413strong.org/wp-content/uploads/2022/11/Screen-Shot-2022-02-08-at-12.25.10-PM-Copy.jpg
END:VEVENT
BEGIN:VEVENT
DTSTART;TZID=America/Chicago:20260806T053000
DTEND;TZID=America/Chicago:20260806T061500
DTSTAMP:20260420T144834
CREATED:20251112T211015Z
LAST-MODIFIED:20260223T165022Z
UID:10003455-1785994200-1785996900@413strong.org
SUMMARY:F3 Workout
DESCRIPTION:Come out and join us for an early morning workout. F3 converges on the 4:13 Strong campus (the “Stronghold”) each Thursday morning from 5:30am-6:15am\, rain or shine\, to lead the 4:13 Strong guys in a fun but challenging workout. This is a great way to encourage the 4:13 Strong men\, improve your fitness level and build some new male friendships. Stick around for coffee and fellowship following the workout. \nF3 Workouts were created “to plant\, grow\, and serve small workout groups for the invigoration of male community leadership.” \nPartner with us as we support our men and community in becoming better leaders in Nashville.
URL:https://413strong.org/event/f3-workout-32-2-3-2/2026-08-06/
LOCATION:4:13 Strong Campus\, 1276 Foster Avenue\, Nashville\, TN\, 37210\, United States
CATEGORIES:Community,Workouts
ATTACH;FMTTYPE=image/jpeg:https://413strong.org/wp-content/uploads/2024/02/F3-Workout-scaled.jpg
ORGANIZER;CN="Steve":MAILTO:steve@413strong.org
END:VEVENT
BEGIN:VEVENT
DTSTART;TZID=America/Chicago:20260806T180000
DTEND;TZID=America/Chicago:20260806T200000
DTSTAMP:20260420T144834
CREATED:20251217T194711Z
LAST-MODIFIED:20260420T150348Z
UID:10002405-1786039200-1786046400@413strong.org
SUMMARY:Fellowship Dinner
DESCRIPTION:Provide dinner for the current 4:13 Strong class or Working Men on Thursday evenings. You can prepare a homemade meal in your kitchen or order takeout. It’s up to you. Our guys always appreciate a tasty\, nutritious meal that is prepared by someone else! Plan to stick around and eat with them because they love the fellowship. \nSIGN UP
URL:https://413strong.org/event/fellowship-dinner-10-2-2/2026-08-06/
LOCATION:4:13 Strong\, 1282 Foster Avenue\, Nashville\, TN\, 37210\, United States
CATEGORIES:Community
ATTACH;FMTTYPE=image/jpeg:https://413strong.org/wp-content/uploads/2020/07/New-413-Strong-Class-Eating.jpg
ORGANIZER;CN="Steve":MAILTO:steve@413strong.org
END:VEVENT
BEGIN:VEVENT
DTSTART;TZID=America/Chicago:20260810T183000
DTEND;TZID=America/Chicago:20260810T200000
DTSTAMP:20260420T144834
CREATED:20251112T211533Z
LAST-MODIFIED:20260420T144601Z
UID:10003715-1786386600-1786392000@413strong.org
SUMMARY:Monday Night Mentoring
DESCRIPTION:Monday nights are a time when we invite men from the community to come and spend time with the 4:13 Strong men. We meet as a large group for a brief message before breaking into small groups where relationships can really be formed. Each small group has 2 – 3 Mentors and 3 – 4 men from 4:13 Strong. This is the most hands-on opportunity that we offer for those men that are really looking to invest in the lives of the 4:13 Strong guys.
URL:https://413strong.org/event/monday-night-mentoring-3-2/2026-08-10/
LOCATION:4:13 Strong\, 1282 Foster Avenue\, Nashville\, TN\, 37210\, United States
CATEGORIES:Community,Guys
ATTACH;FMTTYPE=image/jpeg:https://413strong.org/wp-content/uploads/2025/11/Monday-Night-Mentoring.jpg
ORGANIZER;CN="Steve":MAILTO:steve@413strong.org
END:VEVENT
BEGIN:VEVENT
DTSTART;TZID=America/Chicago:20260811T053000
DTEND;TZID=America/Chicago:20260811T061500
DTSTAMP:20260420T144834
CREATED:20260420T145246Z
LAST-MODIFIED:20260420T145853Z
UID:10004307-1786426200-1786428900@413strong.org
SUMMARY:F3 Tuesday Run
DESCRIPTION:Each Tuesday morning during the 40-Day Challenge\, we meet at 5:30am for a three-mile run. Our goal is to be able to complete the three miles in under 30 minutes by the end of the 40 Day Challenge. We do run/walk intervals with the duration of the run interval gradually increasing throughout the 40 Days.
URL:https://413strong.org/event/f3-tuesday-run-5-2-3-2-2/2026-08-11/
LOCATION:4:13 Strong Campus\, 1276 Foster Avenue\, Nashville\, TN\, 37210\, United States
CATEGORIES:Community,Workouts
ATTACH;FMTTYPE=image/jpeg:https://413strong.org/wp-content/uploads/2025/05/Run.jpg
ORGANIZER;CN="Steve":MAILTO:steve@413strong.org
END:VEVENT
BEGIN:VEVENT
DTSTART;TZID=America/Chicago:20260811T153000
DTEND;TZID=America/Chicago:20260811T170000
DTSTAMP:20260420T144834
CREATED:20240315T204126Z
LAST-MODIFIED:20260420T144745Z
UID:10001873-1786462200-1786467600@413strong.org
SUMMARY:Happy Hour
DESCRIPTION:Join us as we unwind from a day of hard work at our weekly Happy Hour! We’ll have snacks\, games\, music\, slushies\, and more. No need to sign up\, just show up. Stop in for a few minutes or stay a while.
URL:https://413strong.org/event/happy-hour-2/2026-08-11/
LOCATION:4:13 Strong Campus\, 1276 Foster Avenue\, Nashville\, TN\, 37210\, United States
CATEGORIES:Community
ATTACH;FMTTYPE=image/jpeg:https://413strong.org/wp-content/uploads/2024/03/Happy-Hour.jpg
END:VEVENT
BEGIN:VEVENT
DTSTART;TZID=America/Chicago:20260812T160000
DTEND;TZID=America/Chicago:20260812T170000
DTSTAMP:20260420T144834
CREATED:20240319T200406Z
LAST-MODIFIED:20260223T172018Z
UID:10002136-1786550400-1786554000@413strong.org
SUMMARY:Study Hall
DESCRIPTION:On Wednesdays from 4:00-5:00\, 4:13 Strong volunteers can help with resume writing\, interview skills\, construction math\, and drivers license test practice.
URL:https://413strong.org/event/study-hall/2026-08-12/
LOCATION:4:13 Strong Campus\, 1276 Foster Avenue\, Nashville\, TN\, 37210\, United States
CATEGORIES:Community
ATTACH;FMTTYPE=image/jpeg:https://413strong.org/wp-content/uploads/2022/11/Screen-Shot-2022-02-08-at-12.25.10-PM-Copy.jpg
END:VEVENT
BEGIN:VEVENT
DTSTART;TZID=America/Chicago:20260813T053000
DTEND;TZID=America/Chicago:20260813T061500
DTSTAMP:20260420T144834
CREATED:20251112T211015Z
LAST-MODIFIED:20260223T165022Z
UID:10003456-1786599000-1786601700@413strong.org
SUMMARY:F3 Workout
DESCRIPTION:Come out and join us for an early morning workout. F3 converges on the 4:13 Strong campus (the “Stronghold”) each Thursday morning from 5:30am-6:15am\, rain or shine\, to lead the 4:13 Strong guys in a fun but challenging workout. This is a great way to encourage the 4:13 Strong men\, improve your fitness level and build some new male friendships. Stick around for coffee and fellowship following the workout. \nF3 Workouts were created “to plant\, grow\, and serve small workout groups for the invigoration of male community leadership.” \nPartner with us as we support our men and community in becoming better leaders in Nashville.
URL:https://413strong.org/event/f3-workout-32-2-3-2/2026-08-13/
LOCATION:4:13 Strong Campus\, 1276 Foster Avenue\, Nashville\, TN\, 37210\, United States
CATEGORIES:Community,Workouts
ATTACH;FMTTYPE=image/jpeg:https://413strong.org/wp-content/uploads/2024/02/F3-Workout-scaled.jpg
ORGANIZER;CN="Steve":MAILTO:steve@413strong.org
END:VEVENT
BEGIN:VEVENT
DTSTART;TZID=America/Chicago:20260813T180000
DTEND;TZID=America/Chicago:20260813T200000
DTSTAMP:20260420T144834
CREATED:20251217T194711Z
LAST-MODIFIED:20260420T150348Z
UID:10002406-1786644000-1786651200@413strong.org
SUMMARY:Fellowship Dinner
DESCRIPTION:Provide dinner for the current 4:13 Strong class or Working Men on Thursday evenings. You can prepare a homemade meal in your kitchen or order takeout. It’s up to you. Our guys always appreciate a tasty\, nutritious meal that is prepared by someone else! Plan to stick around and eat with them because they love the fellowship. \nSIGN UP
URL:https://413strong.org/event/fellowship-dinner-10-2-2/2026-08-13/
LOCATION:4:13 Strong\, 1282 Foster Avenue\, Nashville\, TN\, 37210\, United States
CATEGORIES:Community
ATTACH;FMTTYPE=image/jpeg:https://413strong.org/wp-content/uploads/2020/07/New-413-Strong-Class-Eating.jpg
ORGANIZER;CN="Steve":MAILTO:steve@413strong.org
END:VEVENT
BEGIN:VEVENT
DTSTART;TZID=America/Chicago:20260817T183000
DTEND;TZID=America/Chicago:20260817T200000
DTSTAMP:20260420T144834
CREATED:20251112T211533Z
LAST-MODIFIED:20260420T144601Z
UID:10003716-1786991400-1786996800@413strong.org
SUMMARY:Monday Night Mentoring
DESCRIPTION:Monday nights are a time when we invite men from the community to come and spend time with the 4:13 Strong men. We meet as a large group for a brief message before breaking into small groups where relationships can really be formed. Each small group has 2 – 3 Mentors and 3 – 4 men from 4:13 Strong. This is the most hands-on opportunity that we offer for those men that are really looking to invest in the lives of the 4:13 Strong guys.
URL:https://413strong.org/event/monday-night-mentoring-3-2/2026-08-17/
LOCATION:4:13 Strong\, 1282 Foster Avenue\, Nashville\, TN\, 37210\, United States
CATEGORIES:Community,Guys
ATTACH;FMTTYPE=image/jpeg:https://413strong.org/wp-content/uploads/2025/11/Monday-Night-Mentoring.jpg
ORGANIZER;CN="Steve":MAILTO:steve@413strong.org
END:VEVENT
BEGIN:VEVENT
DTSTART;TZID=America/Chicago:20260818T053000
DTEND;TZID=America/Chicago:20260818T061500
DTSTAMP:20260420T144834
CREATED:20260420T145246Z
LAST-MODIFIED:20260420T145853Z
UID:10004308-1787031000-1787033700@413strong.org
SUMMARY:F3 Tuesday Run
DESCRIPTION:Each Tuesday morning during the 40-Day Challenge\, we meet at 5:30am for a three-mile run. Our goal is to be able to complete the three miles in under 30 minutes by the end of the 40 Day Challenge. We do run/walk intervals with the duration of the run interval gradually increasing throughout the 40 Days.
URL:https://413strong.org/event/f3-tuesday-run-5-2-3-2-2/2026-08-18/
LOCATION:4:13 Strong Campus\, 1276 Foster Avenue\, Nashville\, TN\, 37210\, United States
CATEGORIES:Community,Workouts
ATTACH;FMTTYPE=image/jpeg:https://413strong.org/wp-content/uploads/2025/05/Run.jpg
ORGANIZER;CN="Steve":MAILTO:steve@413strong.org
END:VEVENT
BEGIN:VEVENT
DTSTART;TZID=America/Chicago:20260818T153000
DTEND;TZID=America/Chicago:20260818T170000
DTSTAMP:20260420T144834
CREATED:20240315T204126Z
LAST-MODIFIED:20260420T144745Z
UID:10001874-1787067000-1787072400@413strong.org
SUMMARY:Happy Hour
DESCRIPTION:Join us as we unwind from a day of hard work at our weekly Happy Hour! We’ll have snacks\, games\, music\, slushies\, and more. No need to sign up\, just show up. Stop in for a few minutes or stay a while.
URL:https://413strong.org/event/happy-hour-2/2026-08-18/
LOCATION:4:13 Strong Campus\, 1276 Foster Avenue\, Nashville\, TN\, 37210\, United States
CATEGORIES:Community
ATTACH;FMTTYPE=image/jpeg:https://413strong.org/wp-content/uploads/2024/03/Happy-Hour.jpg
END:VEVENT
BEGIN:VEVENT
DTSTART;TZID=America/Chicago:20260819T160000
DTEND;TZID=America/Chicago:20260819T170000
DTSTAMP:20260420T144834
CREATED:20240319T200406Z
LAST-MODIFIED:20260223T172018Z
UID:10002137-1787155200-1787158800@413strong.org
SUMMARY:Study Hall
DESCRIPTION:On Wednesdays from 4:00-5:00\, 4:13 Strong volunteers can help with resume writing\, interview skills\, construction math\, and drivers license test practice.
URL:https://413strong.org/event/study-hall/2026-08-19/
LOCATION:4:13 Strong Campus\, 1276 Foster Avenue\, Nashville\, TN\, 37210\, United States
CATEGORIES:Community
ATTACH;FMTTYPE=image/jpeg:https://413strong.org/wp-content/uploads/2022/11/Screen-Shot-2022-02-08-at-12.25.10-PM-Copy.jpg
END:VEVENT
BEGIN:VEVENT
DTSTART;TZID=America/Chicago:20260820T053000
DTEND;TZID=America/Chicago:20260820T061500
DTSTAMP:20260420T144834
CREATED:20251112T211015Z
LAST-MODIFIED:20260223T165022Z
UID:10003457-1787203800-1787206500@413strong.org
SUMMARY:F3 Workout
DESCRIPTION:Come out and join us for an early morning workout. F3 converges on the 4:13 Strong campus (the “Stronghold”) each Thursday morning from 5:30am-6:15am\, rain or shine\, to lead the 4:13 Strong guys in a fun but challenging workout. This is a great way to encourage the 4:13 Strong men\, improve your fitness level and build some new male friendships. Stick around for coffee and fellowship following the workout. \nF3 Workouts were created “to plant\, grow\, and serve small workout groups for the invigoration of male community leadership.” \nPartner with us as we support our men and community in becoming better leaders in Nashville.
URL:https://413strong.org/event/f3-workout-32-2-3-2/2026-08-20/
LOCATION:4:13 Strong Campus\, 1276 Foster Avenue\, Nashville\, TN\, 37210\, United States
CATEGORIES:Community,Workouts
ATTACH;FMTTYPE=image/jpeg:https://413strong.org/wp-content/uploads/2024/02/F3-Workout-scaled.jpg
ORGANIZER;CN="Steve":MAILTO:steve@413strong.org
END:VEVENT
END:VCALENDAR