BEGIN:VCALENDAR
VERSION:2.0
PRODID:-//4:13 Strong - ECPv6.15.1.1//NONSGML v1.0//EN
CALSCALE:GREGORIAN
METHOD:PUBLISH
X-ORIGINAL-URL:https://413strong.org
X-WR-CALDESC:Events for 4:13 Strong
REFRESH-INTERVAL;VALUE=DURATION:PT1H
X-Robots-Tag:noindex
X-PUBLISHED-TTL:PT1H
BEGIN:VTIMEZONE
TZID:America/Chicago
BEGIN:DAYLIGHT
TZOFFSETFROM:-0600
TZOFFSETTO:-0500
TZNAME:CDT
DTSTART:20260308T080000
END:DAYLIGHT
BEGIN:STANDARD
TZOFFSETFROM:-0500
TZOFFSETTO:-0600
TZNAME:CST
DTSTART:20261101T070000
END:STANDARD
END:VTIMEZONE
BEGIN:VEVENT
DTSTART;TZID=America/Chicago:20260504T080000
DTEND;TZID=America/Chicago:20260504T170000
DTSTAMP:20260423T053249
CREATED:20250113T182616Z
LAST-MODIFIED:20260420T150645Z
UID:10002274-1777881600-1777914000@413strong.org
SUMMARY:Tryouts - Mental Toughness Week
DESCRIPTION:To apply for the program\, participants must come to tryouts\, a week of physical and mental conditioning we call “Mental Toughness Week.” Men are put to the test with a series of challenges that will push them outside of their comfort zones and test their character under pressure. \nIf a man demonstrates the effort and attitude it will take to complete the program\, he is accepted into the program at the end of the week. \nIs the program right for you?\nIf you have questions\, fill out this quick form or text Gerry at 615-330-1303. (There’s no commitment.) \nReady to jump in?\nIf you’d like to be considered for the program\, all you have to do is fill out this interest form  and show up to tryouts. If you have questions\, you can contact Gerry at gerry@413strong.org or 615-330-1303.
URL:https://413strong.org/event/tryouts-mental-toughness-week-12/2026-05-04/
LOCATION:Rolling Hills Community Church – Nashville South Campus\, 255 Haywood Lane\, Nashville\, TN\, 37211
CATEGORIES:Tryouts - Mental Toughness Week
ATTACH;FMTTYPE=image/jpeg:https://413strong.org/wp-content/uploads/2025/01/Black-and-Blue-Neon-Modern-Instagram-Profile-Picture-3.jpg
ORGANIZER;CN="Gerry Pullens":MAILTO:gerry@413strong.org
END:VEVENT
BEGIN:VEVENT
DTSTART;TZID=America/Chicago:20260706T080000
DTEND;TZID=America/Chicago:20260706T150000
DTSTAMP:20260423T053249
CREATED:20250113T182616Z
LAST-MODIFIED:20260420T150645Z
UID:10004560-1783324800-1783350000@413strong.org
SUMMARY:Tryouts - Mental Toughness Week
DESCRIPTION:To apply for the program\, participants must come to tryouts\, a week of physical and mental conditioning we call “Mental Toughness Week.” Men are put to the test with a series of challenges that will push them outside of their comfort zones and test their character under pressure. \nIf a man demonstrates the effort and attitude it will take to complete the program\, he is accepted into the program at the end of the week. \nIs the program right for you?\nIf you have questions\, fill out this quick form or text Gerry at 615-330-1303. (There’s no commitment.) \nReady to jump in?\nIf you’d like to be considered for the program\, all you have to do is fill out this interest form  and show up to tryouts. If you have questions\, you can contact Gerry at gerry@413strong.org or 615-330-1303.
URL:https://413strong.org/event/tryouts-mental-toughness-week-12/2026-07-06/
LOCATION:Rolling Hills Community Church – Nashville South Campus\, 255 Haywood Lane\, Nashville\, TN\, 37211
CATEGORIES:Tryouts - Mental Toughness Week
ATTACH;FMTTYPE=image/jpeg:https://413strong.org/wp-content/uploads/2025/01/Black-and-Blue-Neon-Modern-Instagram-Profile-Picture-3.jpg
ORGANIZER;CN="Gerry Pullens":MAILTO:gerry@413strong.org
END:VEVENT
BEGIN:VEVENT
DTSTART;TZID=America/Chicago:20260907T080000
DTEND;TZID=America/Chicago:20260907T150000
DTSTAMP:20260423T053249
CREATED:20250113T182616Z
LAST-MODIFIED:20260420T150645Z
UID:10004561-1788768000-1788793200@413strong.org
SUMMARY:Tryouts - Mental Toughness Week
DESCRIPTION:To apply for the program\, participants must come to tryouts\, a week of physical and mental conditioning we call “Mental Toughness Week.” Men are put to the test with a series of challenges that will push them outside of their comfort zones and test their character under pressure. \nIf a man demonstrates the effort and attitude it will take to complete the program\, he is accepted into the program at the end of the week. \nIs the program right for you?\nIf you have questions\, fill out this quick form or text Gerry at 615-330-1303. (There’s no commitment.) \nReady to jump in?\nIf you’d like to be considered for the program\, all you have to do is fill out this interest form  and show up to tryouts. If you have questions\, you can contact Gerry at gerry@413strong.org or 615-330-1303.
URL:https://413strong.org/event/tryouts-mental-toughness-week-12/2026-09-07/
LOCATION:Rolling Hills Community Church – Nashville South Campus\, 255 Haywood Lane\, Nashville\, TN\, 37211
CATEGORIES:Tryouts - Mental Toughness Week
ATTACH;FMTTYPE=image/jpeg:https://413strong.org/wp-content/uploads/2025/01/Black-and-Blue-Neon-Modern-Instagram-Profile-Picture-3.jpg
ORGANIZER;CN="Gerry Pullens":MAILTO:gerry@413strong.org
END:VEVENT
END:VCALENDAR