BEGIN:VCALENDAR
VERSION:2.0
PRODID:-//4:13 Strong - ECPv6.15.1.1//NONSGML v1.0//EN
CALSCALE:GREGORIAN
METHOD:PUBLISH
X-ORIGINAL-URL:https://413strong.org
X-WR-CALDESC:Events for 4:13 Strong
REFRESH-INTERVAL;VALUE=DURATION:PT1H
X-Robots-Tag:noindex
X-PUBLISHED-TTL:PT1H
BEGIN:VTIMEZONE
TZID:America/Chicago
BEGIN:DAYLIGHT
TZOFFSETFROM:-0600
TZOFFSETTO:-0500
TZNAME:CDT
DTSTART:20310309T080000
END:DAYLIGHT
BEGIN:STANDARD
TZOFFSETFROM:-0500
TZOFFSETTO:-0600
TZNAME:CST
DTSTART:20311102T070000
END:STANDARD
END:VTIMEZONE
BEGIN:VEVENT
DTSTART;TZID=America/Chicago:20310310T183000
DTEND;TZID=America/Chicago:20310310T200000
DTSTAMP:20260423T155402
CREATED:20251112T211533Z
LAST-MODIFIED:20260420T144601Z
UID:10004283-1930933800-1930939200@413strong.org
SUMMARY:Monday Night Mentoring
DESCRIPTION:Monday nights are a time when we invite men from the community to come and spend time with the 4:13 Strong men. We meet as a large group for a brief message before breaking into small groups where relationships can really be formed. Each small group has 2 – 3 Mentors and 3 – 4 men from 4:13 Strong. This is the most hands-on opportunity that we offer for those men that are really looking to invest in the lives of the 4:13 Strong guys.
URL:https://413strong.org/event/monday-night-mentoring-3-2/2031-03-10/
LOCATION:4:13 Strong\, 1282 Foster Avenue\, Nashville\, TN\, 37210\, United States
CATEGORIES:Community,Guys
ATTACH;FMTTYPE=image/jpeg:https://413strong.org/wp-content/uploads/2025/11/Monday-Night-Mentoring.jpg
ORGANIZER;CN="Steve":MAILTO:steve@413strong.org
END:VEVENT
BEGIN:VEVENT
DTSTART;TZID=America/Chicago:20310313T180000
DTEND;TZID=America/Chicago:20310313T200000
DTSTAMP:20260423T155402
CREATED:20251217T194711Z
LAST-MODIFIED:20260420T150348Z
UID:10004554-1931191200-1931198400@413strong.org
SUMMARY:Fellowship Dinner
DESCRIPTION:Provide dinner for the current 4:13 Strong class or Working Men on Thursday evenings. You can prepare a homemade meal in your kitchen or order takeout. It’s up to you. Our guys always appreciate a tasty\, nutritious meal that is prepared by someone else! Plan to stick around and eat with them because they love the fellowship. \nSIGN UP
URL:https://413strong.org/event/fellowship-dinner-10-2-2/2031-03-13/
LOCATION:4:13 Strong\, 1282 Foster Avenue\, Nashville\, TN\, 37210\, United States
CATEGORIES:Community
ATTACH;FMTTYPE=image/jpeg:https://413strong.org/wp-content/uploads/2020/07/New-413-Strong-Class-Eating.jpg
ORGANIZER;CN="Steve":MAILTO:steve@413strong.org
END:VEVENT
BEGIN:VEVENT
DTSTART;TZID=America/Chicago:20310317T183000
DTEND;TZID=America/Chicago:20310317T200000
DTSTAMP:20260423T155402
CREATED:20251112T211533Z
LAST-MODIFIED:20260420T144601Z
UID:10004284-1931538600-1931544000@413strong.org
SUMMARY:Monday Night Mentoring
DESCRIPTION:Monday nights are a time when we invite men from the community to come and spend time with the 4:13 Strong men. We meet as a large group for a brief message before breaking into small groups where relationships can really be formed. Each small group has 2 – 3 Mentors and 3 – 4 men from 4:13 Strong. This is the most hands-on opportunity that we offer for those men that are really looking to invest in the lives of the 4:13 Strong guys.
URL:https://413strong.org/event/monday-night-mentoring-3-2/2031-03-17/
LOCATION:4:13 Strong\, 1282 Foster Avenue\, Nashville\, TN\, 37210\, United States
CATEGORIES:Community,Guys
ATTACH;FMTTYPE=image/jpeg:https://413strong.org/wp-content/uploads/2025/11/Monday-Night-Mentoring.jpg
ORGANIZER;CN="Steve":MAILTO:steve@413strong.org
END:VEVENT
BEGIN:VEVENT
DTSTART;TZID=America/Chicago:20310320T180000
DTEND;TZID=America/Chicago:20310320T200000
DTSTAMP:20260423T155402
CREATED:20251217T194711Z
LAST-MODIFIED:20260420T150348Z
UID:10004555-1931796000-1931803200@413strong.org
SUMMARY:Fellowship Dinner
DESCRIPTION:Provide dinner for the current 4:13 Strong class or Working Men on Thursday evenings. You can prepare a homemade meal in your kitchen or order takeout. It’s up to you. Our guys always appreciate a tasty\, nutritious meal that is prepared by someone else! Plan to stick around and eat with them because they love the fellowship. \nSIGN UP
URL:https://413strong.org/event/fellowship-dinner-10-2-2/2031-03-20/
LOCATION:4:13 Strong\, 1282 Foster Avenue\, Nashville\, TN\, 37210\, United States
CATEGORIES:Community
ATTACH;FMTTYPE=image/jpeg:https://413strong.org/wp-content/uploads/2020/07/New-413-Strong-Class-Eating.jpg
ORGANIZER;CN="Steve":MAILTO:steve@413strong.org
END:VEVENT
BEGIN:VEVENT
DTSTART;TZID=America/Chicago:20310324T183000
DTEND;TZID=America/Chicago:20310324T200000
DTSTAMP:20260423T155402
CREATED:20251112T211533Z
LAST-MODIFIED:20260420T144601Z
UID:10004285-1932143400-1932148800@413strong.org
SUMMARY:Monday Night Mentoring
DESCRIPTION:Monday nights are a time when we invite men from the community to come and spend time with the 4:13 Strong men. We meet as a large group for a brief message before breaking into small groups where relationships can really be formed. Each small group has 2 – 3 Mentors and 3 – 4 men from 4:13 Strong. This is the most hands-on opportunity that we offer for those men that are really looking to invest in the lives of the 4:13 Strong guys.
URL:https://413strong.org/event/monday-night-mentoring-3-2/2031-03-24/
LOCATION:4:13 Strong\, 1282 Foster Avenue\, Nashville\, TN\, 37210\, United States
CATEGORIES:Community,Guys
ATTACH;FMTTYPE=image/jpeg:https://413strong.org/wp-content/uploads/2025/11/Monday-Night-Mentoring.jpg
ORGANIZER;CN="Steve":MAILTO:steve@413strong.org
END:VEVENT
BEGIN:VEVENT
DTSTART;TZID=America/Chicago:20310327T180000
DTEND;TZID=America/Chicago:20310327T200000
DTSTAMP:20260423T155402
CREATED:20251217T194711Z
LAST-MODIFIED:20260420T150348Z
UID:10004556-1932400800-1932408000@413strong.org
SUMMARY:Fellowship Dinner
DESCRIPTION:Provide dinner for the current 4:13 Strong class or Working Men on Thursday evenings. You can prepare a homemade meal in your kitchen or order takeout. It’s up to you. Our guys always appreciate a tasty\, nutritious meal that is prepared by someone else! Plan to stick around and eat with them because they love the fellowship. \nSIGN UP
URL:https://413strong.org/event/fellowship-dinner-10-2-2/2031-03-27/
LOCATION:4:13 Strong\, 1282 Foster Avenue\, Nashville\, TN\, 37210\, United States
CATEGORIES:Community
ATTACH;FMTTYPE=image/jpeg:https://413strong.org/wp-content/uploads/2020/07/New-413-Strong-Class-Eating.jpg
ORGANIZER;CN="Steve":MAILTO:steve@413strong.org
END:VEVENT
BEGIN:VEVENT
DTSTART;TZID=America/Chicago:20310331T183000
DTEND;TZID=America/Chicago:20310331T200000
DTSTAMP:20260423T155402
CREATED:20251112T211533Z
LAST-MODIFIED:20260420T144601Z
UID:10004286-1932748200-1932753600@413strong.org
SUMMARY:Monday Night Mentoring
DESCRIPTION:Monday nights are a time when we invite men from the community to come and spend time with the 4:13 Strong men. We meet as a large group for a brief message before breaking into small groups where relationships can really be formed. Each small group has 2 – 3 Mentors and 3 – 4 men from 4:13 Strong. This is the most hands-on opportunity that we offer for those men that are really looking to invest in the lives of the 4:13 Strong guys.
URL:https://413strong.org/event/monday-night-mentoring-3-2/2031-03-31/
LOCATION:4:13 Strong\, 1282 Foster Avenue\, Nashville\, TN\, 37210\, United States
CATEGORIES:Community,Guys
ATTACH;FMTTYPE=image/jpeg:https://413strong.org/wp-content/uploads/2025/11/Monday-Night-Mentoring.jpg
ORGANIZER;CN="Steve":MAILTO:steve@413strong.org
END:VEVENT
BEGIN:VEVENT
DTSTART;TZID=America/Chicago:20310403T180000
DTEND;TZID=America/Chicago:20310403T200000
DTSTAMP:20260423T155402
CREATED:20251217T194711Z
LAST-MODIFIED:20260420T150348Z
UID:10004557-1933005600-1933012800@413strong.org
SUMMARY:Fellowship Dinner
DESCRIPTION:Provide dinner for the current 4:13 Strong class or Working Men on Thursday evenings. You can prepare a homemade meal in your kitchen or order takeout. It’s up to you. Our guys always appreciate a tasty\, nutritious meal that is prepared by someone else! Plan to stick around and eat with them because they love the fellowship. \nSIGN UP
URL:https://413strong.org/event/fellowship-dinner-10-2-2/2031-04-03/
LOCATION:4:13 Strong\, 1282 Foster Avenue\, Nashville\, TN\, 37210\, United States
CATEGORIES:Community
ATTACH;FMTTYPE=image/jpeg:https://413strong.org/wp-content/uploads/2020/07/New-413-Strong-Class-Eating.jpg
ORGANIZER;CN="Steve":MAILTO:steve@413strong.org
END:VEVENT
BEGIN:VEVENT
DTSTART;TZID=America/Chicago:20310407T183000
DTEND;TZID=America/Chicago:20310407T200000
DTSTAMP:20260423T155402
CREATED:20251112T211533Z
LAST-MODIFIED:20260420T144601Z
UID:10004287-1933353000-1933358400@413strong.org
SUMMARY:Monday Night Mentoring
DESCRIPTION:Monday nights are a time when we invite men from the community to come and spend time with the 4:13 Strong men. We meet as a large group for a brief message before breaking into small groups where relationships can really be formed. Each small group has 2 – 3 Mentors and 3 – 4 men from 4:13 Strong. This is the most hands-on opportunity that we offer for those men that are really looking to invest in the lives of the 4:13 Strong guys.
URL:https://413strong.org/event/monday-night-mentoring-3-2/2031-04-07/
LOCATION:4:13 Strong\, 1282 Foster Avenue\, Nashville\, TN\, 37210\, United States
CATEGORIES:Community,Guys
ATTACH;FMTTYPE=image/jpeg:https://413strong.org/wp-content/uploads/2025/11/Monday-Night-Mentoring.jpg
ORGANIZER;CN="Steve":MAILTO:steve@413strong.org
END:VEVENT
BEGIN:VEVENT
DTSTART;TZID=America/Chicago:20310410T180000
DTEND;TZID=America/Chicago:20310410T200000
DTSTAMP:20260423T155402
CREATED:20251217T194711Z
LAST-MODIFIED:20260420T150348Z
UID:10004558-1933610400-1933617600@413strong.org
SUMMARY:Fellowship Dinner
DESCRIPTION:Provide dinner for the current 4:13 Strong class or Working Men on Thursday evenings. You can prepare a homemade meal in your kitchen or order takeout. It’s up to you. Our guys always appreciate a tasty\, nutritious meal that is prepared by someone else! Plan to stick around and eat with them because they love the fellowship. \nSIGN UP
URL:https://413strong.org/event/fellowship-dinner-10-2-2/2031-04-10/
LOCATION:4:13 Strong\, 1282 Foster Avenue\, Nashville\, TN\, 37210\, United States
CATEGORIES:Community
ATTACH;FMTTYPE=image/jpeg:https://413strong.org/wp-content/uploads/2020/07/New-413-Strong-Class-Eating.jpg
ORGANIZER;CN="Steve":MAILTO:steve@413strong.org
END:VEVENT
BEGIN:VEVENT
DTSTART;TZID=America/Chicago:20310414T183000
DTEND;TZID=America/Chicago:20310414T200000
DTSTAMP:20260423T155402
CREATED:20251112T211533Z
LAST-MODIFIED:20260420T144601Z
UID:10004288-1933957800-1933963200@413strong.org
SUMMARY:Monday Night Mentoring
DESCRIPTION:Monday nights are a time when we invite men from the community to come and spend time with the 4:13 Strong men. We meet as a large group for a brief message before breaking into small groups where relationships can really be formed. Each small group has 2 – 3 Mentors and 3 – 4 men from 4:13 Strong. This is the most hands-on opportunity that we offer for those men that are really looking to invest in the lives of the 4:13 Strong guys.
URL:https://413strong.org/event/monday-night-mentoring-3-2/2031-04-14/
LOCATION:4:13 Strong\, 1282 Foster Avenue\, Nashville\, TN\, 37210\, United States
CATEGORIES:Community,Guys
ATTACH;FMTTYPE=image/jpeg:https://413strong.org/wp-content/uploads/2025/11/Monday-Night-Mentoring.jpg
ORGANIZER;CN="Steve":MAILTO:steve@413strong.org
END:VEVENT
BEGIN:VEVENT
DTSTART;TZID=America/Chicago:20310417T180000
DTEND;TZID=America/Chicago:20310417T200000
DTSTAMP:20260423T155402
CREATED:20251217T194711Z
LAST-MODIFIED:20260420T150348Z
UID:10004559-1934215200-1934222400@413strong.org
SUMMARY:Fellowship Dinner
DESCRIPTION:Provide dinner for the current 4:13 Strong class or Working Men on Thursday evenings. You can prepare a homemade meal in your kitchen or order takeout. It’s up to you. Our guys always appreciate a tasty\, nutritious meal that is prepared by someone else! Plan to stick around and eat with them because they love the fellowship. \nSIGN UP
URL:https://413strong.org/event/fellowship-dinner-10-2-2/2031-04-17/
LOCATION:4:13 Strong\, 1282 Foster Avenue\, Nashville\, TN\, 37210\, United States
CATEGORIES:Community
ATTACH;FMTTYPE=image/jpeg:https://413strong.org/wp-content/uploads/2020/07/New-413-Strong-Class-Eating.jpg
ORGANIZER;CN="Steve":MAILTO:steve@413strong.org
END:VEVENT
END:VCALENDAR